BEGIN:VCALENDAR
PRODID:-//eluceo/ical//2.0/EN
VERSION:2.0
CALSCALE:GREGORIAN
BEGIN:VEVENT
UID:bf678f6e44183930f17c771084005177
DTSTAMP:20260425T122103Z
SUMMARY:Ekki fundur í dag
DESCRIPTION:Fyrirlesari(ar): \n\n\n\n\n\n\n\n\n\n\n\n\n\n\n\n\n\nÓákveði
 ð.
URL:https://akranes.rotary1360.is/is/agenda/show/4613
DTSTART;TZID=Iceland:20230517T183000
DTEND;TZID=Iceland:20230517T200000
LOCATION:Ekki fundur
CATEGORIES:Rotary
END:VEVENT
BEGIN:VTIMEZONE
TZID:Iceland
BEGIN:STANDARD
DTSTART:20230517T183000
TZNAME:GMT
TZOFFSETTO:+0000
TZOFFSETFROM:+0000
END:STANDARD
END:VTIMEZONE
END:VCALENDAR
