BEGIN:VCALENDAR
PRODID:-//eluceo/ical//2.0/EN
VERSION:2.0
CALSCALE:GREGORIAN
BEGIN:VEVENT
UID:2a5d24d982146117bb2c048f147a8f36
DTSTAMP:20260425T152826Z
SUMMARY:Starfsáætlun næsta starfsárs
DESCRIPTION:Fyrirlesari(ar): 
URL:https://akranes.rotary1360.is/is/agenda/show/4615
DTSTART;TZID=Iceland:20230531T183000
DTEND;TZID=Iceland:20230531T200000
LOCATION:Lighthouse Restaurant\, Kirkjubraut 10\, 300 Akranes
CATEGORIES:Rotary
END:VEVENT
BEGIN:VTIMEZONE
TZID:Iceland
BEGIN:STANDARD
DTSTART:20230531T183000
TZNAME:GMT
TZOFFSETTO:+0000
TZOFFSETFROM:+0000
END:STANDARD
END:VTIMEZONE
END:VCALENDAR
