BEGIN:VCALENDAR
PRODID:-//eluceo/ical//2.0/EN
VERSION:2.0
CALSCALE:GREGORIAN
BEGIN:VEVENT
UID:9a5c3e82d07d2122f1583deeaac39f3d
DTSTAMP:20260425T163935Z
SUMMARY:Þrepin í Selbrekku
DESCRIPTION:Fyrirlesari(ar): 
URL:https://akranes.rotary1360.is/is/agenda/show/4696
DTSTART;TZID=Iceland:20230607T183000
DTEND;TZID=Iceland:20230607T200000
LOCATION:Slaga í Selbrekku
CATEGORIES:Rotary
END:VEVENT
BEGIN:VTIMEZONE
TZID:Iceland
BEGIN:STANDARD
DTSTART:20230607T183000
TZNAME:GMT
TZOFFSETTO:+0000
TZOFFSETFROM:+0000
END:STANDARD
END:VTIMEZONE
END:VCALENDAR
